Package: LOLA Version: 1.37.0 Command: rm -rf LOLA.buildbin-libdir && mkdir LOLA.buildbin-libdir && /Users/biocbuild/BBS/utils/build-universal.sh LOLA_1.37.0.tar.gz /Library/Frameworks/R.framework/Resources/bin/R LOLA.buildbin-libdir StartedAt: 2025-02-09 22:19:21 -0500 (Sun, 09 Feb 2025) EndedAt: 2025-02-09 22:19:26 -0500 (Sun, 09 Feb 2025) EllapsedTime: 5.1 seconds RetCode: 0 Status: OK PackageFile: LOLA_1.37.0.tgz PackageFileSize: 1.188 MiB