Package: LOLA Version: 1.37.0 Command: /home/biocbuild/bbs-3.21-bioc/R/bin/R CMD check --install=check:LOLA.install-out.txt --library=/home/biocbuild/bbs-3.21-bioc/R/site-library --timings LOLA_1.37.0.tar.gz StartedAt: 2025-02-09 23:40:34 -0500 (Sun, 09 Feb 2025) EndedAt: 2025-02-09 23:42:19 -0500 (Sun, 09 Feb 2025) EllapsedTime: 105.3 seconds RetCode: 0 Status: OK CheckDir: LOLA.Rcheck Warnings: 0