Package: LOLA Version: 1.37.0 Command: /home/biocbuild/bbs-3.21-bioc/R/bin/R CMD INSTALL LOLA StartedAt: 2025-02-09 15:15:17 -0500 (Sun, 09 Feb 2025) EndedAt: 2025-02-09 15:15:28 -0500 (Sun, 09 Feb 2025) EllapsedTime: 10.8 seconds RetCode: 0 Status: OK