Package: LOLA Version: 1.37.0 Command: rm -rf LOLA.buildbin-libdir && mkdir LOLA.buildbin-libdir && E:\biocbuild\bbs-3.21-bioc\R\bin\R.exe CMD INSTALL --build --library=LOLA.buildbin-libdir LOLA_1.37.0.tar.gz StartedAt: 2025-02-10 08:02:30 -0500 (Mon, 10 Feb 2025) EndedAt: 2025-02-10 08:02:57 -0500 (Mon, 10 Feb 2025) EllapsedTime: 27.0 seconds RetCode: 0 Status: OK PackageFile: LOLA_1.37.0.zip PackageFileSize: 1.198 MiB