Package: LOLA Version: 1.37.0 Command: chmod a+r LOLA -R && E:\biocbuild\bbs-3.21-bioc\R\bin\R.exe CMD build --keep-empty-dirs --no-resave-data LOLA StartedAt: 2025-02-09 19:35:00 -0500 (Sun, 09 Feb 2025) EndedAt: 2025-02-09 19:35:42 -0500 (Sun, 09 Feb 2025) EllapsedTime: 41.8 seconds RetCode: 0 Status: OK PackageFile: LOLA_1.37.0.tar.gz PackageFileSize: 1.11 MiB