Package: LOLA Version: 1.37.0 Command: E:\biocbuild\bbs-3.21-bioc\R\bin\R.exe CMD check --no-multiarch --install=check:LOLA.install-out.txt --library=E:\biocbuild\bbs-3.21-bioc\R\library --no-vignettes --timings LOLA_1.37.0.tar.gz StartedAt: 2025-02-10 02:26:17 -0500 (Mon, 10 Feb 2025) EndedAt: 2025-02-10 02:28:19 -0500 (Mon, 10 Feb 2025) EllapsedTime: 122.2 seconds RetCode: 0 Status: OK CheckDir: LOLA.Rcheck Warnings: 0