Package: LOLA Version: 1.37.0 Command: E:\biocbuild\bbs-3.21-bioc\R\bin\R.exe CMD INSTALL LOLA StartedAt: 2025-02-03 15:53:52 -0500 (Mon, 03 Feb 2025) EndedAt: 2025-02-03 15:54:23 -0500 (Mon, 03 Feb 2025) EllapsedTime: 31.0 seconds RetCode: 0 Status: OK