Package: LRBaseDbi Version: 2.17.0 Command: /Library/Frameworks/R.framework/Resources/bin/R CMD check --install=check:LRBaseDbi.install-out.txt --library=/Library/Frameworks/R.framework/Resources/library --no-vignettes --timings LRBaseDbi_2.17.0.tar.gz StartedAt: 2025-02-09 19:52:37 -0500 (Sun, 09 Feb 2025) EndedAt: 2025-02-09 19:53:18 -0500 (Sun, 09 Feb 2025) EllapsedTime: 40.6 seconds RetCode: 0 Status: OK CheckDir: LRBaseDbi.Rcheck Warnings: 0