Package: LRBaseDbi Version: 2.17.0 Command: /home/biocbuild/R/R/bin/R CMD build --keep-empty-dirs --no-resave-data LRBaseDbi StartedAt: 2025-01-28 23:57:06 -0000 (Tue, 28 Jan 2025) EndedAt: 2025-01-28 23:57:45 -0000 (Tue, 28 Jan 2025) EllapsedTime: 39.0 seconds RetCode: 0 Status: OK PackageFile: LRBaseDbi_2.17.0.tar.gz PackageFileSize: 156.5 KiB