Package: LRBaseDbi Version: 2.17.0 Command: /home/biocbuild/bbs-3.21-bioc/R/bin/R CMD build --keep-empty-dirs --no-resave-data LRBaseDbi StartedAt: 2025-02-09 17:53:18 -0500 (Sun, 09 Feb 2025) EndedAt: 2025-02-09 17:53:44 -0500 (Sun, 09 Feb 2025) EllapsedTime: 26.0 seconds RetCode: 0 Status: OK PackageFile: LRBaseDbi_2.17.0.tar.gz PackageFileSize: 146 KiB