Package: LRBaseDbi Version: 2.17.0 Command: rm -rf LRBaseDbi.buildbin-libdir && mkdir LRBaseDbi.buildbin-libdir && E:\biocbuild\bbs-3.21-bioc\R\bin\R.exe CMD INSTALL --build --library=LRBaseDbi.buildbin-libdir LRBaseDbi_2.17.0.tar.gz StartedAt: 2025-02-10 08:02:57 -0500 (Mon, 10 Feb 2025) EndedAt: 2025-02-10 08:03:33 -0500 (Mon, 10 Feb 2025) EllapsedTime: 36.0 seconds RetCode: 0 Status: OK PackageFile: LRBaseDbi_2.17.0.zip PackageFileSize: 553 KiB