Package: LRBaseDbi Version: 2.17.0 Command: chmod a+r LRBaseDbi -R && E:\biocbuild\bbs-3.21-bioc\R\bin\R.exe CMD build --keep-empty-dirs --no-resave-data LRBaseDbi StartedAt: 2025-02-03 19:48:43 -0500 (Mon, 03 Feb 2025) EndedAt: 2025-02-03 19:49:31 -0500 (Mon, 03 Feb 2025) EllapsedTime: 48.4 seconds RetCode: 0 Status: OK PackageFile: LRBaseDbi_2.17.0.tar.gz PackageFileSize: 146.8 KiB