Package: LRBaseDbi Version: 2.17.0 Command: E:\biocbuild\bbs-3.21-bioc\R\bin\R.exe CMD INSTALL LRBaseDbi StartedAt: 2025-02-09 15:44:57 -0500 (Sun, 09 Feb 2025) EndedAt: 2025-02-09 15:45:38 -0500 (Sun, 09 Feb 2025) EllapsedTime: 40.9 seconds RetCode: 0 Status: OK