Package: LimROTS Version: 0.99.12 Command: rm -rf LimROTS.buildbin-libdir && mkdir LimROTS.buildbin-libdir && /Users/biocbuild/BBS/utils/build-universal.sh LimROTS_0.99.12.tar.gz /Library/Frameworks/R.framework/Resources/bin/R LimROTS.buildbin-libdir StartedAt: 2025-02-09 22:19:12 -0500 (Sun, 09 Feb 2025) EndedAt: 2025-02-09 22:19:23 -0500 (Sun, 09 Feb 2025) EllapsedTime: 11.3 seconds RetCode: 0 Status: OK PackageFile: LimROTS_0.99.12.tgz PackageFileSize: 835.4 KiB