Package: LimROTS Version: 0.99.12 Command: /Library/Frameworks/R.framework/Resources/bin/R CMD build --keep-empty-dirs --no-resave-data LimROTS StartedAt: 2025-02-09 16:46:02 -0500 (Sun, 09 Feb 2025) EndedAt: 2025-02-09 16:46:34 -0500 (Sun, 09 Feb 2025) EllapsedTime: 31.4 seconds RetCode: 0 Status: OK PackageFile: LimROTS_0.99.12.tar.gz PackageFileSize: 774.2 KiB