Package: LimROTS Version: 0.99.12 Command: /Library/Frameworks/R.framework/Resources/bin/R CMD check --install=check:LimROTS.install-out.txt --library=/Library/Frameworks/R.framework/Resources/library --no-vignettes --timings LimROTS_0.99.12.tar.gz StartedAt: 2025-02-09 19:51:24 -0500 (Sun, 09 Feb 2025) EndedAt: 2025-02-09 19:52:35 -0500 (Sun, 09 Feb 2025) EllapsedTime: 71.0 seconds RetCode: 0 Status: OK CheckDir: LimROTS.Rcheck Warnings: 0