Package: LimROTS Version: 0.99.12 Command: /home/biocbuild/R/R/bin/R CMD INSTALL LimROTS StartedAt: 2025-01-29 19:45:01 -0000 (Wed, 29 Jan 2025) EndedAt: 2025-01-29 19:45:32 -0000 (Wed, 29 Jan 2025) EllapsedTime: 31.7 seconds RetCode: 0 Status: OK