Package: LimROTS Version: 0.99.12 Command: /Library/Frameworks/R.framework/Resources/bin/R CMD INSTALL LimROTS StartedAt: 2025-02-09 15:13:49 -0500 (Sun, 09 Feb 2025) EndedAt: 2025-02-09 15:14:22 -0500 (Sun, 09 Feb 2025) EllapsedTime: 33.1 seconds RetCode: 0 Status: OK