Package: LimROTS Version: 0.99.12 Command: /home/biocbuild/bbs-3.21-bioc/R/bin/R CMD check --install=check:LimROTS.install-out.txt --library=/home/biocbuild/bbs-3.21-bioc/R/site-library --timings LimROTS_0.99.12.tar.gz StartedAt: 2025-02-12 23:38:45 -0500 (Wed, 12 Feb 2025) EndedAt: 2025-02-12 23:42:43 -0500 (Wed, 12 Feb 2025) EllapsedTime: 237.6 seconds RetCode: 0 Status: OK CheckDir: LimROTS.Rcheck Warnings: 0