Package: LimROTS Version: 0.99.12 Command: /home/biocbuild/bbs-3.21-bioc/R/bin/R CMD INSTALL LimROTS StartedAt: 2025-02-09 15:55:27 -0500 (Sun, 09 Feb 2025) EndedAt: 2025-02-09 15:55:51 -0500 (Sun, 09 Feb 2025) EllapsedTime: 24.1 seconds RetCode: 0 Status: OK