Package: LimROTS Version: 0.99.12 Command: chmod a+r LimROTS -R && E:\biocbuild\bbs-3.21-bioc\R\bin\R.exe CMD build --keep-empty-dirs --no-resave-data LimROTS StartedAt: 2025-02-12 19:38:32 -0500 (Wed, 12 Feb 2025) EndedAt: 2025-02-12 19:40:35 -0500 (Wed, 12 Feb 2025) EllapsedTime: 123.5 seconds RetCode: 0 Status: OK PackageFile: LimROTS_0.99.12.tar.gz PackageFileSize: 545.4 KiB