Package: LinkHD Version: 1.21.0 Command: /Library/Frameworks/R.framework/Resources/bin/R CMD build --keep-empty-dirs --no-resave-data LinkHD StartedAt: 2025-02-09 16:46:10 -0500 (Sun, 09 Feb 2025) EndedAt: 2025-02-09 16:46:33 -0500 (Sun, 09 Feb 2025) EllapsedTime: 23.3 seconds RetCode: 0 Status: OK PackageFile: LinkHD_1.21.0.tar.gz PackageFileSize: 2.374 MiB