Package: LinkHD Version: 1.21.0 Command: /Library/Frameworks/R.framework/Resources/bin/R CMD check --install=check:LinkHD.install-out.txt --library=/Library/Frameworks/R.framework/Resources/library --no-vignettes --timings LinkHD_1.21.0.tar.gz StartedAt: 2025-02-03 20:28:56 -0500 (Mon, 03 Feb 2025) EndedAt: 2025-02-03 20:30:11 -0500 (Mon, 03 Feb 2025) EllapsedTime: 75.0 seconds RetCode: 0 Status: OK CheckDir: LinkHD.Rcheck Warnings: 0