Package: LinkHD Version: 1.21.0 Command: /Library/Frameworks/R.framework/Resources/bin/R CMD INSTALL LinkHD StartedAt: 2025-02-03 16:03:07 -0500 (Mon, 03 Feb 2025) EndedAt: 2025-02-03 16:03:18 -0500 (Mon, 03 Feb 2025) EllapsedTime: 11.2 seconds RetCode: 0 Status: OK