Package: LinkHD Version: 1.21.0 Command: /home/biocbuild/R/R/bin/R CMD build --keep-empty-dirs --no-resave-data LinkHD StartedAt: 2025-01-28 23:55:14 -0000 (Tue, 28 Jan 2025) EndedAt: 2025-01-28 23:56:42 -0000 (Tue, 28 Jan 2025) EllapsedTime: 88.0 seconds RetCode: 0 Status: OK PackageFile: LinkHD_1.21.0.tar.gz PackageFileSize: 1.898 MiB