Package: LinkHD Version: 1.21.0 Command: /home/biocbuild/R/R/bin/R CMD INSTALL LinkHD StartedAt: 2025-01-29 20:33:44 -0000 (Wed, 29 Jan 2025) EndedAt: 2025-01-29 20:34:22 -0000 (Wed, 29 Jan 2025) EllapsedTime: 38.0 seconds RetCode: 0 Status: OK