Package: LinkHD Version: 1.21.0 Command: rm -rf LinkHD.buildbin-libdir && mkdir LinkHD.buildbin-libdir && /Users/biocbuild/BBS/utils/build-universal.sh LinkHD_1.21.0.tar.gz /Library/Frameworks/R.framework/Resources/bin/R LinkHD.buildbin-libdir StartedAt: 2025-02-04 00:40:41 -0500 (Tue, 04 Feb 2025) EndedAt: 2025-02-04 00:41:20 -0500 (Tue, 04 Feb 2025) EllapsedTime: 39.4 seconds RetCode: 0 Status: OK PackageFile: LinkHD_1.21.0.tgz PackageFileSize: 2.08 MiB