Package: LinkHD Version: 1.21.0 Command: /Library/Frameworks/R.framework/Resources/bin/R CMD build --keep-empty-dirs --no-resave-data LinkHD StartedAt: 2025-02-03 17:15:13 -0500 (Mon, 03 Feb 2025) EndedAt: 2025-02-03 17:16:16 -0500 (Mon, 03 Feb 2025) EllapsedTime: 63.0 seconds RetCode: 0 Status: OK PackageFile: LinkHD_1.21.0.tar.gz PackageFileSize: 2.371 MiB