Package: LinkHD Version: 1.21.0 Command: /Library/Frameworks/R.framework/Resources/bin/R CMD check --install=check:LinkHD.install-out.txt --library=/Library/Frameworks/R.framework/Resources/library --no-vignettes --timings LinkHD_1.21.0.tar.gz StartedAt: 2025-02-09 21:34:47 -0500 (Sun, 09 Feb 2025) EndedAt: 2025-02-09 21:38:44 -0500 (Sun, 09 Feb 2025) EllapsedTime: 236.8 seconds RetCode: 0 Status: OK CheckDir: LinkHD.Rcheck Warnings: 0