Package: LinkHD Version: 1.21.0 Command: /Library/Frameworks/R.framework/Resources/bin/R CMD INSTALL LinkHD StartedAt: 2025-02-03 15:47:56 -0500 (Mon, 03 Feb 2025) EndedAt: 2025-02-03 15:48:32 -0500 (Mon, 03 Feb 2025) EllapsedTime: 36.4 seconds RetCode: 0 Status: OK