Package: LinkHD Version: 1.21.0 Command: /home/biocbuild/bbs-3.21-bioc/R/bin/R CMD build --keep-empty-dirs --no-resave-data LinkHD StartedAt: 2025-02-03 18:00:45 -0500 (Mon, 03 Feb 2025) EndedAt: 2025-02-03 18:01:41 -0500 (Mon, 03 Feb 2025) EllapsedTime: 56.1 seconds RetCode: 0 Status: OK PackageFile: LinkHD_1.21.0.tar.gz PackageFileSize: 2.596 MiB