Package: LinkHD Version: 1.21.0 Command: /home/biocbuild/bbs-3.21-bioc/R/bin/R CMD check --install=check:LinkHD.install-out.txt --library=/home/biocbuild/bbs-3.21-bioc/R/site-library --timings LinkHD_1.21.0.tar.gz StartedAt: 2025-02-03 23:45:53 -0500 (Mon, 03 Feb 2025) EndedAt: 2025-02-03 23:49:41 -0500 (Mon, 03 Feb 2025) EllapsedTime: 228.5 seconds RetCode: 0 Status: OK CheckDir: LinkHD.Rcheck Warnings: 0