Package: LinkHD Version: 1.21.0 Command: rm -rf LinkHD.buildbin-libdir && mkdir LinkHD.buildbin-libdir && E:\biocbuild\bbs-3.21-bioc\R\bin\R.exe CMD INSTALL --build --library=LinkHD.buildbin-libdir LinkHD_1.21.0.tar.gz StartedAt: 2025-02-04 08:15:36 -0500 (Tue, 04 Feb 2025) EndedAt: 2025-02-04 08:16:24 -0500 (Tue, 04 Feb 2025) EllapsedTime: 48.3 seconds RetCode: 0 Status: OK PackageFile: LinkHD_1.21.0.zip PackageFileSize: 1.525 MiB