Package: LinkHD Version: 1.21.0 Command: chmod a+r LinkHD -R && E:\biocbuild\bbs-3.21-bioc\R\bin\R.exe CMD build --keep-empty-dirs --no-resave-data LinkHD StartedAt: 2025-02-03 19:46:53 -0500 (Mon, 03 Feb 2025) EndedAt: 2025-02-03 19:48:18 -0500 (Mon, 03 Feb 2025) EllapsedTime: 85.3 seconds RetCode: 0 Status: OK PackageFile: LinkHD_1.21.0.tar.gz PackageFileSize: 1.816 MiB