Package: LinkHD Version: 1.21.0 Command: E:\biocbuild\bbs-3.21-bioc\R\bin\R.exe CMD check --no-multiarch --install=check:LinkHD.install-out.txt --library=E:\biocbuild\bbs-3.21-bioc\R\library --no-vignettes --timings LinkHD_1.21.0.tar.gz StartedAt: 2025-02-10 02:23:38 -0500 (Mon, 10 Feb 2025) EndedAt: 2025-02-10 02:27:56 -0500 (Mon, 10 Feb 2025) EllapsedTime: 258.3 seconds RetCode: 0 Status: OK CheckDir: LinkHD.Rcheck Warnings: 0