Package: Linnorm Version: 2.31.0 Command: /Library/Frameworks/R.framework/Resources/bin/R CMD build --keep-empty-dirs --no-resave-data Linnorm StartedAt: 2025-02-12 16:46:28 -0500 (Wed, 12 Feb 2025) EndedAt: 2025-02-12 16:47:53 -0500 (Wed, 12 Feb 2025) EllapsedTime: 85.0 seconds RetCode: 0 Status: OK PackageFile: Linnorm_2.31.0.tar.gz PackageFileSize: 4.107 MiB