Package: Linnorm Version: 2.31.0 Command: /home/biocbuild/R/R/bin/R CMD build --keep-empty-dirs --no-resave-data Linnorm StartedAt: 2025-01-28 23:55:20 -0000 (Tue, 28 Jan 2025) EndedAt: 2025-01-29 00:01:05 -0000 (Wed, 29 Jan 2025) EllapsedTime: 345.1 seconds RetCode: 0 Status: OK PackageFile: Linnorm_2.31.0.tar.gz PackageFileSize: 4.097 MiB