Package: LiquidAssociation Version: 1.61.0 Command: /Library/Frameworks/R.framework/Resources/bin/R CMD build --keep-empty-dirs --no-resave-data LiquidAssociation StartedAt: 2025-02-09 16:46:33 -0500 (Sun, 09 Feb 2025) EndedAt: 2025-02-09 16:46:45 -0500 (Sun, 09 Feb 2025) EllapsedTime: 12.2 seconds RetCode: 0 Status: OK PackageFile: LiquidAssociation_1.61.0.tar.gz PackageFileSize: 286 KiB