Package: LiquidAssociation Version: 1.61.0 Command: /home/biocbuild/R/R/bin/R CMD build --keep-empty-dirs --no-resave-data LiquidAssociation StartedAt: 2025-01-28 23:56:18 -0000 (Tue, 28 Jan 2025) EndedAt: 2025-01-28 23:56:57 -0000 (Tue, 28 Jan 2025) EllapsedTime: 39.0 seconds RetCode: 0 Status: OK PackageFile: LiquidAssociation_1.61.0.tar.gz PackageFileSize: 287.8 KiB