Package: LiquidAssociation Version: 1.61.0 Command: /home/biocbuild/R/R/bin/R CMD check --install=check:LiquidAssociation.install-out.txt --library=/home/biocbuild/R/R/site-library --no-vignettes --timings LiquidAssociation_1.61.0.tar.gz StartedAt: 2025-01-28 11:56:29 -0000 (Tue, 28 Jan 2025) EndedAt: 2025-01-28 11:58:35 -0000 (Tue, 28 Jan 2025) EllapsedTime: 126.1 seconds RetCode: 0 Status: OK CheckDir: LiquidAssociation.Rcheck Warnings: 0