Package: LiquidAssociation Version: 1.61.0 Command: rm -rf LiquidAssociation.buildbin-libdir && mkdir LiquidAssociation.buildbin-libdir && /Users/biocbuild/BBS/utils/build-universal.sh LiquidAssociation_1.61.0.tar.gz /Library/Frameworks/R.framework/Resources/bin/R LiquidAssociation.buildbin-libdir StartedAt: 2025-02-05 00:46:28 -0500 (Wed, 05 Feb 2025) EndedAt: 2025-02-05 00:46:51 -0500 (Wed, 05 Feb 2025) EllapsedTime: 23.3 seconds RetCode: 0 Status: OK PackageFile: LiquidAssociation_1.61.0.tgz PackageFileSize: 506.6 KiB