Package: LiquidAssociation Version: 1.61.0 Command: /Library/Frameworks/R.framework/Resources/bin/R CMD build --keep-empty-dirs --no-resave-data LiquidAssociation StartedAt: 2025-02-04 17:11:26 -0500 (Tue, 04 Feb 2025) EndedAt: 2025-02-04 17:11:59 -0500 (Tue, 04 Feb 2025) EllapsedTime: 33.2 seconds RetCode: 0 Status: OK PackageFile: LiquidAssociation_1.61.0.tar.gz PackageFileSize: 285.6 KiB