Package: LiquidAssociation Version: 1.61.0 Command: /Library/Frameworks/R.framework/Resources/bin/R CMD INSTALL LiquidAssociation StartedAt: 2025-02-04 15:14:02 -0500 (Tue, 04 Feb 2025) EndedAt: 2025-02-04 15:14:22 -0500 (Tue, 04 Feb 2025) EllapsedTime: 20.1 seconds RetCode: 0 Status: OK