Package: LiquidAssociation Version: 1.61.0 Command: /home/biocbuild/bbs-3.21-bioc/R/bin/R CMD build --keep-empty-dirs --no-resave-data LiquidAssociation StartedAt: 2025-02-04 17:50:24 -0500 (Tue, 04 Feb 2025) EndedAt: 2025-02-04 17:50:53 -0500 (Tue, 04 Feb 2025) EllapsedTime: 29.1 seconds RetCode: 0 Status: OK PackageFile: LiquidAssociation_1.61.0.tar.gz PackageFileSize: 285.9 KiB