Package: LiquidAssociation Version: 1.61.0 Command: /home/biocbuild/bbs-3.21-bioc/R/bin/R CMD check --install=check:LiquidAssociation.install-out.txt --library=/home/biocbuild/bbs-3.21-bioc/R/site-library --timings LiquidAssociation_1.61.0.tar.gz StartedAt: 2025-02-04 23:38:17 -0500 (Tue, 04 Feb 2025) EndedAt: 2025-02-04 23:40:11 -0500 (Tue, 04 Feb 2025) EllapsedTime: 114.1 seconds RetCode: 0 Status: OK CheckDir: LiquidAssociation.Rcheck Warnings: 0