Package: LiquidAssociation Version: 1.61.0 Command: /home/biocbuild/bbs-3.21-bioc/R/bin/R CMD INSTALL LiquidAssociation StartedAt: 2025-02-09 15:30:00 -0500 (Sun, 09 Feb 2025) EndedAt: 2025-02-09 15:30:15 -0500 (Sun, 09 Feb 2025) EllapsedTime: 15.1 seconds RetCode: 0 Status: OK