Package: LiquidAssociation Version: 1.61.0 Command: rm -rf LiquidAssociation.buildbin-libdir && mkdir LiquidAssociation.buildbin-libdir && E:\biocbuild\bbs-3.21-bioc\R\bin\R.exe CMD INSTALL --build --library=LiquidAssociation.buildbin-libdir LiquidAssociation_1.61.0.tar.gz StartedAt: 2025-02-10 08:02:21 -0500 (Mon, 10 Feb 2025) EndedAt: 2025-02-10 08:04:38 -0500 (Mon, 10 Feb 2025) EllapsedTime: 137.2 seconds RetCode: 0 Status: OK PackageFile: LiquidAssociation_1.61.0.zip PackageFileSize: 400.5 KiB