Package: LiquidAssociation Version: 1.61.0 Command: chmod a+r LiquidAssociation -R && E:\biocbuild\bbs-3.21-bioc\R\bin\R.exe CMD build --keep-empty-dirs --no-resave-data LiquidAssociation StartedAt: 2025-02-09 19:34:18 -0500 (Sun, 09 Feb 2025) EndedAt: 2025-02-09 19:34:59 -0500 (Sun, 09 Feb 2025) EllapsedTime: 40.9 seconds RetCode: 0 Status: OK PackageFile: LiquidAssociation_1.61.0.tar.gz PackageFileSize: 174.4 KiB