Package: LiquidAssociation Version: 1.61.0 Command: E:\biocbuild\bbs-3.21-bioc\R\bin\R.exe CMD check --no-multiarch --install=check:LiquidAssociation.install-out.txt --library=E:\biocbuild\bbs-3.21-bioc\R\library --no-vignettes --timings LiquidAssociation_1.61.0.tar.gz StartedAt: 2025-02-10 02:24:33 -0500 (Mon, 10 Feb 2025) EndedAt: 2025-02-10 02:26:37 -0500 (Mon, 10 Feb 2025) EllapsedTime: 124.8 seconds RetCode: 0 Status: OK CheckDir: LiquidAssociation.Rcheck Warnings: 0