Package: LiquidAssociation Version: 1.61.0 Command: E:\biocbuild\bbs-3.21-bioc\R\bin\R.exe CMD INSTALL LiquidAssociation StartedAt: 2025-02-09 15:44:49 -0500 (Sun, 09 Feb 2025) EndedAt: 2025-02-09 15:45:59 -0500 (Sun, 09 Feb 2025) EllapsedTime: 69.6 seconds RetCode: 0 Status: OK